BEGIN:VCALENDAR
VERSION:2.0
PRODID:-//Dromore West - ECPv6.11.2.1//NONSGML v1.0//EN
CALSCALE:GREGORIAN
METHOD:PUBLISH
X-ORIGINAL-URL:http://dromorewest.ie
X-WR-CALDESC:Events for Dromore West
REFRESH-INTERVAL;VALUE=DURATION:PT1H
X-Robots-Tag:noindex
X-PUBLISHED-TTL:PT1H
BEGIN:VTIMEZONE
TZID:Europe/Dublin
BEGIN:STANDARD
TZOFFSETFROM:+0000
TZOFFSETTO:+0100
TZNAME:IST
DTSTART:20170326T010000
END:STANDARD
BEGIN:DAYLIGHT
TZOFFSETFROM:+0100
TZOFFSETTO:+0000
TZNAME:GMT
DTSTART:20171029T010000
END:DAYLIGHT
BEGIN:STANDARD
TZOFFSETFROM:+0000
TZOFFSETTO:+0100
TZNAME:IST
DTSTART:20180325T010000
END:STANDARD
BEGIN:DAYLIGHT
TZOFFSETFROM:+0100
TZOFFSETTO:+0000
TZNAME:GMT
DTSTART:20181028T010000
END:DAYLIGHT
END:VTIMEZONE
BEGIN:VEVENT
DTSTART;TZID=Europe/Dublin:20180512T041500
DTEND;TZID=Europe/Dublin:20180512T070000
DTSTAMP:20260421T135730
CREATED:20180316T221506Z
LAST-MODIFIED:20180316T221506Z
UID:425-1526098500-1526108400@dromorewest.ie
SUMMARY:Darkness Into Light Dromore West 2018
DESCRIPTION:Darkness Into Light Dromore West 2018 \nDarkness Into Light is an Annual 5k walk/run in Aid of Pieta House. On Saturday\, 12th May a community will gather at Dromore West Community Centre and walk in support of positive mental health. \nMany of us walk every year in various locations\, but this year we can make this a truly unique experience with family and friends in our very own community of Dromore West. Together we stand as a whole\, a community\, and shine as a beacon of light and hope to support those who may be struggling and in remembrance of those we have lost. \nJoin us in what will be a remarkable day for all and please help by sharing the event and inviting your friends to help enhance the walk.
URL:http://dromorewest.ie/event/darkness-into-light-dromore-west-2018/
LOCATION:Dromore West Community Centre\, Dromore West\, Dromore West\, Sligo\, F26T9F9\, Ireland
END:VEVENT
BEGIN:VEVENT
DTSTART;TZID=Europe/Dublin:20180402T140000
DTEND;TZID=Europe/Dublin:20180402T160000
DTSTAMP:20260421T135730
CREATED:20180316T220543Z
LAST-MODIFIED:20180316T220801Z
UID:419-1522677600-1522684800@dromorewest.ie
SUMMARY:Mini Farmer and Fairy Tractor Run
DESCRIPTION:Mini Farmer and Fairy Tractor Run \nDress up your little farmer in their overalls and wellies\, and roll out the ride on tractors. Fairies don’t get left behind\, wings\, sparkle and wellies. Let the fun begin for the first ever Dromore West Little Farmer and Fairy Run. Mini parade and after party in the Dromore West Community Centre. Entry is €3 per child.
URL:http://dromorewest.ie/event/mini-farmer-and-fairy-tractor-run/
LOCATION:Dromore West Community Centre\, Dromore West\, Dromore West\, Sligo\, F26T9F9\, Ireland
END:VEVENT
BEGIN:VEVENT
DTSTART;TZID=Europe/Dublin:20180331T130000
DTEND;TZID=Europe/Dublin:20180331T150000
DTSTAMP:20260421T135730
CREATED:20180316T215750Z
LAST-MODIFIED:20180316T215750Z
UID:412-1522501200-1522508400@dromorewest.ie
SUMMARY:The World Around Us
DESCRIPTION:The World Around Us \nSeed planting workshop\, learn about composting\, recycyling fun and information\, bee keeping\, shoreline adventure table at Dromore West Community Centre. Come and visit our fair of activities for all the family\, come in and get your hands dirty. We will be planting a native tree and learning all about the World Around Us. Our ECO cafe will be serving drinks\, snacks and yummy cakes. No entry fee.
URL:http://dromorewest.ie/event/the-world-around-us/
LOCATION:Dromore West Community Centre\, Dromore West\, Dromore West\, Sligo\, F26T9F9\, Ireland
END:VEVENT
BEGIN:VEVENT
DTSTART;TZID=Europe/Dublin:20180330T103000
DTEND;TZID=Europe/Dublin:20180330T123000
DTSTAMP:20260421T135730
CREATED:20180316T213408Z
LAST-MODIFIED:20180316T213408Z
UID:404-1522405800-1522413000@dromorewest.ie
SUMMARY:Pride of Place
DESCRIPTION:Pride of Place \nLets make the village shine\, we will be pulling weeding\, picking litter (litter sticks provided)\, sweeping paths and recycling. Meet at the Dromore West Community Centre at 10.30am\, bags\, tools and gloves will be provided. Get the family involved\, and teach your children good habits\, we are looking for junior tidy towners. This will be an ideal opportunity to spot early wildflowers as we go. Picnic afterwards\, teddys welcome! As an extra incentive each parent who helps out will recieve one free entry ticket to the fairies and tractor event on Easter Monday.
URL:http://dromorewest.ie/event/pride-of-place/
LOCATION:Sligo
END:VEVENT
BEGIN:VEVENT
DTSTART;TZID=Europe/Dublin:20180317T160000
DTEND;TZID=Europe/Dublin:20180317T180000
DTSTAMP:20260421T135730
CREATED:20180315T222614Z
LAST-MODIFIED:20180315T223110Z
UID:394-1521302400-1521309600@dromorewest.ie
SUMMARY:Dromore West St. Patrick's Day parade
DESCRIPTION:Dromore West St Patrick’s Day Parade \n☘Come and join us for this year’s St. Patrick’s Day Festivities☘\nStarting with our parade\, which will kick off at 4pm from the church\, followed by refreshments and entertainment in the community centre!\nAnd why not continue the celebrations in one of our local pubs\, with plenty of entertainment for everyone!\nLooking forward to seeing ye there 😃
URL:http://dromorewest.ie/event/dromore-west-st-patricks-day-parade/
LOCATION:Dromore West Community Centre\, Dromore West\, Dromore West\, Sligo\, F26T9F9\, Ireland
END:VEVENT
BEGIN:VEVENT
DTSTART;TZID=Europe/Dublin:20171216T210000
DTEND;TZID=Europe/Dublin:20171217T210000
DTSTAMP:20260421T135730
CREATED:20171201T204909Z
LAST-MODIFIED:20171201T204909Z
UID:364-1513458000-1513544400@dromorewest.ie
SUMMARY:Christmas Jumper and Karaoke Night - The Still
DESCRIPTION:
URL:http://dromorewest.ie/event/christmas-jumper-and-karaoke-night-the-still/
LOCATION:The Still Bar\, Dromore West\, Sligo\, Ireland
END:VEVENT
BEGIN:VEVENT
DTSTART;TZID=Europe/Dublin:20171210T143000
DTEND;TZID=Europe/Dublin:20171210T180000
DTSTAMP:20260421T135730
CREATED:20171201T192439Z
LAST-MODIFIED:20171201T192439Z
UID:342-1512916200-1512928800@dromorewest.ie
SUMMARY:Christmas Market @ The Still
DESCRIPTION:CHRISTMAS MARKET AND SANTA SUNDAY 1OTH DECEMBER \nMULLED WINE AND HOT CHOCOLATE WILL BE AVAILABLE TO ENJOY WHILE YOU CHECK OUT SOME FANTASTIC STALLS AT OUR CHRISTMAS MARKETS \nSTALLS SUCH AS The Dutch Bakery Ireland\, Essential Oils\, Little Scissors Hair Salon & Barber Shop\, Beautilicious\, Luna Restaurant Dromahair\,Bob Smith – Matchstick Creations AND MORE. \n\nMARKET BEGINS AT 12:30 WITH SANTA DUE TO ARRIVE AT 2PM \nLOOKING FORWARD TODAY A FESTIVE FUN FILLED DAY 🎅❄🎁🎄🔥 \nChristmas Market @ The Still
URL:http://dromorewest.ie/event/christmas-market-the-still/
LOCATION:The Still Bar\, Dromore West\, Sligo\, Ireland
END:VEVENT
BEGIN:VEVENT
DTSTART;TZID=Europe/Dublin:20171202T210000
DTEND;TZID=Europe/Dublin:20171203T210000
DTSTAMP:20260421T135730
CREATED:20171201T193923Z
LAST-MODIFIED:20171201T193923Z
UID:347-1512248400-1512334800@dromorewest.ie
SUMMARY:The Still does Grovember
DESCRIPTION:The Still does Grovember
URL:http://dromorewest.ie/event/the-still-does-grovember/
LOCATION:The Still Bar\, Dromore West\, Sligo\, Ireland
END:VEVENT
BEGIN:VEVENT
DTSTART;TZID=Europe/Dublin:20171124T193000
DTEND;TZID=Europe/Dublin:20171126T230000
DTSTAMP:20260421T135730
CREATED:20171124T190454Z
LAST-MODIFIED:20171124T190454Z
UID:212-1511551800-1511737200@dromorewest.ie
SUMMARY:Tom\, Dick & Harry - Windmill Players
DESCRIPTION:Windmill Players – Tom\, Dick and Harry
URL:http://dromorewest.ie/event/tom-dick-harry-windmill-players/
LOCATION:Sligo
ORGANIZER;CN="Windmill Players":MAILTO:windmillplayerssligo@gmail.com
END:VEVENT
BEGIN:VEVENT
DTSTART;TZID=Europe/Dublin:20171108T210000
DTEND;TZID=Europe/Dublin:20171108T220000
DTSTAMP:20260421T135730
CREATED:20171106T214955Z
LAST-MODIFIED:20171106T214955Z
UID:55-1510174800-1510178400@dromorewest.ie
SUMMARY:Community Enhancement Committee Meeting
DESCRIPTION:
URL:http://dromorewest.ie/event/community-enhancement-committee-meeting/
LOCATION:The Still Bar\, Dromore West\, Sligo\, Ireland
END:VEVENT
END:VCALENDAR